View In:
ArcGIS JavaScript
ArcGIS Online Map Viewer
ArcGIS Earth
ArcMap
View Footprint In:
ArcGIS Online Map Viewer
Service Description: Nashville_Cemetery_transparent_mosaic_group1_tif
Name: Nashville_Cemetery_transparent_mosaic_group1_tif
Description:
Single Fused Map Cache: false
Extent:
XMin: 284191.07738000003
YMin: 3453355.4043600005
XMax: 284356.12682
YMax: 3453582.6583200004
Spatial Reference: 32617
(32617)
Initial Extent:
XMin: 284191.07738000003
YMin: 3453355.4043600005
XMax: 284356.12682
YMax: 3453582.6583200004
Spatial Reference: 32617
(32617)
Full Extent:
XMin: 284191.07738000003
YMin: 3453355.4043600005
XMax: 284356.12682
YMax: 3453582.6583200004
Spatial Reference: 32617
(32617)
Pixel Size X: 0.008519999999998628
Pixel Size Y: 0.008519999999995705
Band Count: 4
Pixel Type: U8
RasterFunction Infos: {"rasterFunctionInfos": [{
"name": "None",
"description": "",
"help": ""
}]}
Mensuration Capabilities: Basic
Has Histograms: true
Has Colormap: false
Has Multi Dimensions : false
Rendering Rule:
Min Scale: 0
Max Scale: 0
Copyright Text:
Service Data Type: esriImageServiceDataTypeGeneric
Min Values: 0, 0, 0, 0
Max Values: 255, 255, 255, 255
Mean Values: 127.52687794746, 145.29678044183, 90.451892411621, 220.20485698346
Standard Deviation Values: 62.124772514067, 65.865075960198, 52.324163289245, 87.533190884969
Object ID Field:
Fields:
None
Default Mosaic Method: Center
Allowed Mosaic Methods:
SortField:
SortValue: null
Mosaic Operator: First
Default Compression Quality: 75
Default Resampling Method: Bilinear
Max Record Count: null
Max Image Height: 4100
Max Image Width: 15000
Max Download Image Count: null
Max Mosaic Image Count: null
Allow Raster Function: true
Allow Compute TiePoints: false
Supports Statistics: false
Supports Advanced Queries: false
Use StandardizedQueries: true
Raster Type Infos:
Name: Raster Dataset
Description: Supports all ArcGIS Raster Datasets
Help:
Has Raster Attribute Table: false
Edit Fields Info: null
Ownership Based AccessControl For Rasters: null
Child Resources:
Info
Histograms
Key Properties
Legend
MultiDimensionalInfo
rasterFunctionInfos
Supported Operations:
Export Image
Identify
Measure
Compute Histograms
Compute Statistics Histograms
Get Samples
Compute Class Statistics
Query Boundary
Compute Pixel Location